BEGIN:VCALENDAR
VERSION:2.0
PRODID:-//Good Life Family Magazine - ECPv6.1.2.2//NONSGML v1.0//EN
CALSCALE:GREGORIAN
METHOD:PUBLISH
X-ORIGINAL-URL:https://goodlifefamilymag.com
X-WR-CALDESC:Events for Good Life Family Magazine
REFRESH-INTERVAL;VALUE=DURATION:PT1H
X-Robots-Tag:noindex
X-PUBLISHED-TTL:PT1H
BEGIN:VTIMEZONE
TZID:America/Chicago
BEGIN:DAYLIGHT
TZOFFSETFROM:-0600
TZOFFSETTO:-0500
TZNAME:CDT
DTSTART:20200308T080000
END:DAYLIGHT
BEGIN:STANDARD
TZOFFSETFROM:-0500
TZOFFSETTO:-0600
TZNAME:CST
DTSTART:20201101T070000
END:STANDARD
END:VTIMEZONE
BEGIN:VEVENT
DTSTART;TZID=America/Chicago:20200902T113000
DTEND;TZID=America/Chicago:20200902T130000
DTSTAMP:20260419T082844
CREATED:20200403T174432Z
LAST-MODIFIED:20200403T174432Z
UID:13582-1599046200-1599051600@goodlifefamilymag.com
SUMMARY:The 27th Genesis Annual Luncheon
DESCRIPTION:
URL:https://goodlifefamilymag.com/event/the-27th-genesis-annual-luncheon/
END:VEVENT
BEGIN:VEVENT
DTSTART;TZID=America/Chicago:20200912T080000
DTEND;TZID=America/Chicago:20200912T120000
DTSTAMP:20260419T082844
CREATED:20200228T192845Z
LAST-MODIFIED:20200822T164649Z
UID:13309-1599897600-1599912000@goodlifefamilymag.com
SUMMARY:Emmitt Smith Gran Fondo
DESCRIPTION:Fundraising and Riding \nThis year’s recipients will be Minnie’s Food Pantry\, Rock Teen Foundation\, and  \nPat & Emmitt Smith Charities Back to School Program \nEach August Pat & Emmitt Smith Charities partners with the Dallas Independent School District to serve its most underprivileged at-risk children and families by providing new school uniforms\, fresh fruits and vegetables for each family\, children’s books\, dental screenings and more. To date\, 13\,000 families in the Dallas community have received the benefits made possible by partner donations. Thanks to Pat & Emmitt Smith Charities’ partners\, we have been able to provide these services and more for $18 per child. Imagine what your contribution can do. Please join us in helping the children in Dallas Independent School District start their school year on a high note\, with the support of TEAM 22 Cycling behind them. \nMinnie’s Food Pantry is the leading food pantry in North Texas with a mission to provide healthy meals\, educational resources and red-carpet treatment to every person that we serve. Over the last 12 years\, Minnie’s Food Pantry has provided over 11 million meals to low income/food insecure families\, with over 1.4 million meals distributed to 61\,293 individuals in 2019 alone! Minnie’s Food Pantry is 100% community funded and every dollar donated provided 3 meals to families in need. \nToday’s teens face innumerable challenges – and they can better meet those challenges by using the principles of personal development\, goal setting\, dream building\, time management and a sense of purpose. RockTeen Youth foundation leverages peer mentorship to motivate kids and keep them off the streets and out of gangs. RockTeen participants learn how to build themselves up and prepare for the workforce – moving beyond their constrictive environments and towards lifelong success.
URL:https://goodlifefamilymag.com/event/emmit-smith-gran-fondo/
END:VEVENT
BEGIN:VEVENT
DTSTART;TZID=America/Chicago:20200918T113000
DTEND;TZID=America/Chicago:20200918T143000
DTSTAMP:20260419T082844
CREATED:20200228T193112Z
LAST-MODIFIED:20200228T193304Z
UID:13311-1600428600-1600439400@goodlifefamilymag.com
SUMMARY:New Friends New Life Annual Luncheon
DESCRIPTION:
URL:https://goodlifefamilymag.com/event/new-friends-new-life-annual-luncheon-2/
END:VEVENT
BEGIN:VEVENT
DTSTART;TZID=America/Chicago:20200919T180000
DTEND;TZID=America/Chicago:20200919T230000
DTSTAMP:20260419T082844
CREATED:20200822T165348Z
LAST-MODIFIED:20200822T165348Z
UID:14718-1600538400-1600556400@goodlifefamilymag.com
SUMMARY:3rd Annual Gold Gala benefiting Layla’s Legacy
DESCRIPTION:Layla’s Legacy is committed to raising funds for innovative pediatric brain cancer research while bringing help and hope to families impacted by the disease. Their goal is to bring together DFW businesses with the common goal of building a legacy of funding the research that will one day eliminate the need for parents to hear “There’s nothing more we can do\,” and we believe this legacy begins with you. \nJoin them for an evening of dinner\, dancing\, and fun while learning more about how your contribution is making an impact locally and across the state. It will surely be a magical evening honoring Layla and the legacy we are all continuing in her memory. \nTo learn more about the 3rd Annual Gold Gala benefiting Layla’s Legacy\, click here.
URL:https://goodlifefamilymag.com/event/3rd-annual-gold-gala-benefiting-laylas-legacy/
END:VEVENT
BEGIN:VEVENT
DTSTART;TZID=America/Chicago:20200928T170000
DTEND;TZID=America/Chicago:20200928T190000
DTSTAMP:20260419T082844
CREATED:20200330T211933Z
LAST-MODIFIED:20200330T212248Z
UID:13508-1601312400-1601319600@goodlifefamilymag.com
SUMMARY:Texas Women’s Foundation’s Leadership Celebration & Awards Reception
DESCRIPTION:
URL:https://goodlifefamilymag.com/event/texas-womens-foundations-leadership-celebration-awards-reception/
END:VEVENT
END:VCALENDAR