BEGIN:VCALENDAR
VERSION:2.0
PRODID:-//Good Life Family Magazine - ECPv6.1.2.2//NONSGML v1.0//EN
CALSCALE:GREGORIAN
METHOD:PUBLISH
X-WR-CALNAME:Good Life Family Magazine
X-ORIGINAL-URL:https://goodlifefamilymag.com
X-WR-CALDESC:Events for Good Life Family Magazine
REFRESH-INTERVAL;VALUE=DURATION:PT1H
X-Robots-Tag:noindex
X-PUBLISHED-TTL:PT1H
BEGIN:VTIMEZONE
TZID:America/Chicago
BEGIN:DAYLIGHT
TZOFFSETFROM:-0600
TZOFFSETTO:-0500
TZNAME:CDT
DTSTART:20190310T080000
END:DAYLIGHT
BEGIN:STANDARD
TZOFFSETFROM:-0500
TZOFFSETTO:-0600
TZNAME:CST
DTSTART:20191103T070000
END:STANDARD
END:VTIMEZONE
BEGIN:VEVENT
DTSTART;TZID=America/Chicago:20191002T180000
DTEND;TZID=America/Chicago:20191002T210000
DTSTAMP:20260421T114409
CREATED:20190718T234312Z
LAST-MODIFIED:20190718T234312Z
UID:11860-1570039200-1570050000@goodlifefamilymag.com
SUMMARY:Bingo Night - Living For Zachary
DESCRIPTION:Mercedes Benz of Plano\, Dallas Parkway\, Plano\, TX
URL:https://goodlifefamilymag.com/event/bingo-night-living-for-zachary/
END:VEVENT
BEGIN:VEVENT
DTSTART;TZID=America/Chicago:20191005T170000
DTEND;TZID=America/Chicago:20191005T223000
DTSTAMP:20260421T114409
CREATED:20190718T234446Z
LAST-MODIFIED:20190718T234446Z
UID:11862-1570294800-1570314600@goodlifefamilymag.com
SUMMARY:Steak Night - The 24 Hour Club
DESCRIPTION:4635 Ross Avenue\, Dallas\, TX
URL:https://goodlifefamilymag.com/event/steak-night-the-24-hour-club-2/
END:VEVENT
BEGIN:VEVENT
DTSTART;TZID=America/Chicago:20191007T183000
DTEND;TZID=America/Chicago:20191007T213000
DTSTAMP:20260421T114409
CREATED:20190905T151123Z
LAST-MODIFIED:20190905T151123Z
UID:12257-1570473000-1570483800@goodlifefamilymag.com
SUMMARY:Ambassadors of Hope Awards
DESCRIPTION:
URL:https://goodlifefamilymag.com/event/ambassadors-of-hope-awards/
END:VEVENT
BEGIN:VEVENT
DTSTART;TZID=America/Chicago:20191011T113000
DTEND;TZID=America/Chicago:20191011T130000
DTSTAMP:20260421T114409
CREATED:20190601T125814Z
LAST-MODIFIED:20190601T125814Z
UID:11515-1570793400-1570798800@goodlifefamilymag.com
SUMMARY:New Friends New Life Annual Luncheon
DESCRIPTION:Organization:  New Friends New Life \nBenefiting: Restoring trafficked teen girls and exploited women in our community  \nDate and Time:   Friday\, October 11\, 2019\, 11:30 a.m. – 1 p.m. \nSpeaker: Jada Pinkett Smith \nVenue:   OMNI Dallas Hotel\, 555 S Lamar St\, Dallas\, TX 75202 \nAttire:  Business \nAttendance:  1\,000 \nTicket Prices:  Sponsorships start at $2\,500; individual tickets $250 \nContact Phone:   Bianca Jackson\, 214-217-8650; events@newfriendsnewlife.org \nWeb address:   http://www.newfriendsnewlife.org/luncheon \nBACKGROUND:  New Friends New Life\, founded in 1998\, restores and empowers formerly trafficked and sexually exploited women\, teen girls and children.  By providing access to education\, job training\, interim financial assistance\, mental health and spiritual support\, New Friends New Life helps women\, teenage girls and children overcome backgrounds of abuse\, addiction\, poverty and limited opportunities.  For more information about New Friends New Life\, visit  www.newfriendsnewlife.org or call (214) 965-0935.
URL:https://goodlifefamilymag.com/event/new-friends-new-life-annual-luncheon/
ORGANIZER;CN="New%20Friends%20New%20Life":MAILTO:events@newfriendsnewlife.org
END:VEVENT
BEGIN:VEVENT
DTSTART;TZID=America/Chicago:20191021T090000
DTEND;TZID=America/Chicago:20191021T150000
DTSTAMP:20260421T114409
CREATED:20190903T132155Z
LAST-MODIFIED:20190903T132155Z
UID:12113-1571648400-1571670000@goodlifefamilymag.com
SUMMARY:2019 Pat & Emmitt Smith Charities Back to School Event
DESCRIPTION:
URL:https://goodlifefamilymag.com/event/2019-pat-emmitt-smith-charities-back-to-school-event/
END:VEVENT
BEGIN:VEVENT
DTSTART;VALUE=DATE:20191025
DTEND;VALUE=DATE:20191104
DTSTAMP:20260421T114409
CREATED:20190718T235011Z
LAST-MODIFIED:20190718T235011Z
UID:11868-1571961600-1572825599@goodlifefamilymag.com
SUMMARY:Partners Card 2019
DESCRIPTION:
URL:https://goodlifefamilymag.com/event/partners-card-2019/
END:VEVENT
BEGIN:VEVENT
DTSTART;TZID=America/Chicago:20191027T170000
DTEND;TZID=America/Chicago:20191027T183000
DTSTAMP:20260421T114409
CREATED:20190903T133133Z
LAST-MODIFIED:20190903T133133Z
UID:12117-1572195600-1572201000@goodlifefamilymag.com
SUMMARY:St. Andrew Fall Festival and Cruise-In Car Show
DESCRIPTION:
URL:https://goodlifefamilymag.com/event/st-andrew-fall-festival-and-cruise-in-car-show/
END:VEVENT
END:VCALENDAR