BEGIN:VCALENDAR
VERSION:2.0
PRODID:-//Good Life Family Magazine - ECPv6.1.2.2//NONSGML v1.0//EN
CALSCALE:GREGORIAN
METHOD:PUBLISH
X-WR-CALNAME:Good Life Family Magazine
X-ORIGINAL-URL:https://goodlifefamilymag.com
X-WR-CALDESC:Events for Good Life Family Magazine
REFRESH-INTERVAL;VALUE=DURATION:PT1H
X-Robots-Tag:noindex
X-PUBLISHED-TTL:PT1H
BEGIN:VTIMEZONE
TZID:America/Chicago
BEGIN:DAYLIGHT
TZOFFSETFROM:-0600
TZOFFSETTO:-0500
TZNAME:CDT
DTSTART:20190310T080000
END:DAYLIGHT
BEGIN:STANDARD
TZOFFSETFROM:-0500
TZOFFSETTO:-0600
TZNAME:CST
DTSTART:20191103T070000
END:STANDARD
END:VTIMEZONE
BEGIN:VEVENT
DTSTART;TZID=America/Chicago:20190518T090000
DTEND;TZID=America/Chicago:20190518T160000
DTSTAMP:20260424T105758
CREATED:20190310T182406Z
LAST-MODIFIED:20190310T182406Z
UID:11019-1558170000-1558195200@goodlifefamilymag.com
SUMMARY:#BESTSELF (Texas Women's Foundation)
DESCRIPTION:
URL:https://goodlifefamilymag.com/event/bestself-texas-womens-foundation-2/
END:VEVENT
BEGIN:VEVENT
DTSTART;TZID=America/Chicago:20190518T093000
DTEND;TZID=America/Chicago:20190518T113000
DTSTAMP:20260424T105758
CREATED:20190310T182503Z
LAST-MODIFIED:20190310T182503Z
UID:11021-1558171800-1558179000@goodlifefamilymag.com
SUMMARY:Coffee Days (Grant Halliburton Foundation)
DESCRIPTION:
URL:https://goodlifefamilymag.com/event/coffee-days-grant-halliburton-foundation-8/
END:VEVENT
END:VCALENDAR