BEGIN:VCALENDAR
VERSION:2.0
PRODID:-//Good Life Family Magazine - ECPv6.1.2.2//NONSGML v1.0//EN
CALSCALE:GREGORIAN
METHOD:PUBLISH
X-WR-CALNAME:Good Life Family Magazine
X-ORIGINAL-URL:https://goodlifefamilymag.com
X-WR-CALDESC:Events for Good Life Family Magazine
REFRESH-INTERVAL;VALUE=DURATION:PT1H
X-Robots-Tag:noindex
X-PUBLISHED-TTL:PT1H
BEGIN:VTIMEZONE
TZID:America/Chicago
BEGIN:DAYLIGHT
TZOFFSETFROM:-0600
TZOFFSETTO:-0500
TZNAME:CDT
DTSTART:20190310T080000
END:DAYLIGHT
BEGIN:STANDARD
TZOFFSETFROM:-0500
TZOFFSETTO:-0600
TZNAME:CST
DTSTART:20191103T070000
END:STANDARD
END:VTIMEZONE
BEGIN:VEVENT
DTSTART;VALUE=DATE:20190411
DTEND;VALUE=DATE:20190419
DTSTAMP:20260421T052523
CREATED:20190310T174152Z
LAST-MODIFIED:20190310T174152Z
UID:10998-1554940800-1555631999@goodlifefamilymag.com
SUMMARY:Dallas International Film Festival
DESCRIPTION:
URL:https://goodlifefamilymag.com/event/dallas-international-film-festival-2/
END:VEVENT
BEGIN:VEVENT
DTSTART;TZID=America/Chicago:20190411T093000
DTEND;TZID=America/Chicago:20190411T113000
DTSTAMP:20260421T052523
CREATED:20190310T174013Z
LAST-MODIFIED:20190310T174013Z
UID:10996-1554975000-1554982200@goodlifefamilymag.com
SUMMARY:Coffee Days (Grant Halliburton Foundation)
DESCRIPTION:
URL:https://goodlifefamilymag.com/event/coffee-days-grant-halliburton-foundation-4/
END:VEVENT
BEGIN:VEVENT
DTSTART;TZID=America/Chicago:20190411T100000
DTEND;TZID=America/Chicago:20190411T130000
DTSTAMP:20260421T052523
CREATED:20190310T173908Z
LAST-MODIFIED:20190310T173908Z
UID:10994-1554976800-1554987600@goodlifefamilymag.com
SUMMARY:Mad Hatters Event (Women's Council of the Dallas Arboretum)
DESCRIPTION:
URL:https://goodlifefamilymag.com/event/mad-hatters-event-womens-council-of-the-dallas-arboretum-2/
END:VEVENT
END:VCALENDAR